BEGIN:VCALENDAR
VERSION:2.0
PRODID:-//TEST site - ECPv6.5.1.6//NONSGML v1.0//EN
CALSCALE:GREGORIAN
METHOD:PUBLISH
X-WR-CALNAME:TEST site
X-ORIGINAL-URL:https://demarque-toi.ovh
X-WR-CALDESC:évènements pour TEST site
REFRESH-INTERVAL;VALUE=DURATION:PT1H
X-Robots-Tag:noindex
X-PUBLISHED-TTL:PT1H
BEGIN:VTIMEZONE
TZID:Europe/Paris
BEGIN:DAYLIGHT
TZOFFSETFROM:+0100
TZOFFSETTO:+0200
TZNAME:CEST
DTSTART:20240331T010000
END:DAYLIGHT
BEGIN:STANDARD
TZOFFSETFROM:+0200
TZOFFSETTO:+0100
TZNAME:CET
DTSTART:20241027T010000
END:STANDARD
END:VTIMEZONE
BEGIN:VEVENT
DTSTART;VALUE=DATE:20240821
DTEND;VALUE=DATE:20240825
DTSTAMP:20260423T031724
CREATED:20240713T091418Z
LAST-MODIFIED:20240713T092152Z
UID:187-1724198400-1724543999@demarque-toi.ovh
SUMMARY:JAD - Le tour du monde
DESCRIPTION:ghfsthfthmfl\,hlwfg h\,wdfhgn mdqrgh
URL:https://demarque-toi.ovh/event/event-2/
ATTACH;FMTTYPE=image/jpeg:https://demarque-toi.ovh/wp-content/uploads/2024/07/tour-du-monde-955x1024-1.jpg
END:VEVENT
END:VCALENDAR